BEGIN:VCALENDAR
VERSION:2.0
PRODID:-//hacksw/handcal//NONSGML v1.0//EN
BEGIN:VEVENT
SUMMARY:JEUDI 16 AVRIL : OZOLLES
UID:1d7d031c-d95d-47ff-8c8e-5ee950d75adc
DTSTART:20260416T113000Z
DTEND:20260416T160000Z
LOCATION:Localisation   
CATEGORIES:Sportif
STATUS:
DESCRIPTION:<p style="text-align:center;"> </p>
 
 <p
 style="text-align:center;"><span style="color:#2980b9;"><span
 style="font-size:36px;"><strong><u>JEUDI 16 AVRIL
 2026 </u></strong></span></span></p>
 
 <p
 style="text-align:center;"> </p>
 
 <p
 style="text-align:center;"><span style="color:#2980b9;"><span
 style="font-size:36px;"><strong>MARCHE a
 OZOLLES</strong></span></span></p>
 
 <p
 style="text-align:center;"> </p>
 
 <p
 style="text-align:center;"> </p>
 
 <p
 style="text-align:center;"><span
 style="font-size:22px;"><strong>Grande rando :  13km2 Denivele
 +290m</strong></span></p>
 
 <p style="text-align:center;"><span
 style="font-size:22px;"><strong>Rando douce : 10km2 Denivele
 +170m</strong></span></p>
 
 <p style="text-align:center;"> </p>
 
 <p
 style="text-align:center;"> </p>
 
 <p
 style="text-align:center;"> </p>
 
 <p
 style="text-align:center;"> </p>
 
 <p
 style="text-align:center;"> </p>
 
 <p
 style="text-align:center;"> </p>
 
 <p
 style="text-align:center;"> </p>
 
 <p
 style="text-align:center;"> </p>
 
 <p><span
 style="color:#c0392b;"><span style="font-size:22px;"><b>ATTENTION
 HORAIRE D'ETE</b></span></span></p>
 
 <p><span
 style="font-size:22px;"><b>DEPART  du MOULIN LIRON :
 13h30</b></span></p>
 
 <p><span style="font-size:22px;"><b>RV
 <u>Depart de la rando 14h00</u> : </b><strong>parking de la mairie a
 Ozolles</strong></span></p>
 
 <p> </p>
 
 <p> </p>
 
 <p> </p>
 
 <p><span
 style="font-size: 22px;"><b>                           
              </b></span></p>
 
 <p
 style="text-align:center;"> </p>
 
 <p
 style="text-align:center;"> </p>
 
 <p> </p>
URL;VALUE=URI:https://www.acbr.fr/evenements/2026/04/16/jeudi-16-avril-ozolles-2438530
END:VEVENT
END:VCALENDAR
