BEGIN:VCALENDAR
VERSION:2.0
PRODID:-//hacksw/handcal//NONSGML v1.0//EN
BEGIN:VEVENT
SUMMARY:RANDO SANTE GUEUGNON VAL D'ARROUX
UID:398e542e-2a83-4277-8a5c-498821e26cfe
DTSTART:20260428T114500Z
DTEND:20260428T144500Z
LOCATION:Localisation CLESSY Le CARTERAND  
CATEGORIES:Sportif
STATUS:
DESCRIPTION:<p><span style="font-size:18px;"><strong>MARDI 28 AVRIL
 2026</strong></span></p>
 
 <p><span
 style="font-size:18px;"><strong>MARCHE DU MUGUET A CLESSY (FORET
 DOMANIALE DU CARTERAND) 5,5 KM (passages
 boueux)</strong></span></p>
 
 <p><span
 style="font-size:18px;"><strong>95 % bois, D+28
 M</strong></span></p>
 
 <p><span style="font-size:18px;"><strong>13 H
 45 RDV PARKING DU STADE J LAVILLE
 GUEUGNON</strong></span></p>
 
 <p><span
 style="font-size:18px;"><strong>14 H 20 DEPART RANDO PETITE PLACETTE
 AU CARREFOUR DE "LA CROIX DU MAUVAIS PAS"
 CLESSY</strong></span></p>
 
 <p><span
 style="font-size:18px;"><strong>(Prevoir neccessaire a confection de
 vos bouquets)</strong></span></p>
URL;VALUE=URI:https://www.acbr.fr/evenements/2026/04/28/rando-sante-gueugnon-val-darroux-2444203
END:VEVENT
END:VCALENDAR
